BEGIN:VCALENDAR
VERSION:2.0
PRODID:-//Abenteuerspielplatz Heilbronn - ECPv6.15.20//NONSGML v1.0//EN
CALSCALE:GREGORIAN
METHOD:PUBLISH
X-WR-CALNAME:Abenteuerspielplatz Heilbronn
X-ORIGINAL-URL:https://aspik-heilbronn.de
X-WR-CALDESC:Veranstaltungen für Abenteuerspielplatz Heilbronn
REFRESH-INTERVAL;VALUE=DURATION:PT1H
X-Robots-Tag:noindex
X-PUBLISHED-TTL:PT1H
BEGIN:VTIMEZONE
TZID:Europe/Berlin
BEGIN:DAYLIGHT
TZOFFSETFROM:+0100
TZOFFSETTO:+0200
TZNAME:CEST
DTSTART:20220327T010000
END:DAYLIGHT
BEGIN:STANDARD
TZOFFSETFROM:+0200
TZOFFSETTO:+0100
TZNAME:CET
DTSTART:20221030T010000
END:STANDARD
BEGIN:DAYLIGHT
TZOFFSETFROM:+0100
TZOFFSETTO:+0200
TZNAME:CEST
DTSTART:20230326T010000
END:DAYLIGHT
BEGIN:STANDARD
TZOFFSETFROM:+0200
TZOFFSETTO:+0100
TZNAME:CET
DTSTART:20231029T010000
END:STANDARD
BEGIN:DAYLIGHT
TZOFFSETFROM:+0100
TZOFFSETTO:+0200
TZNAME:CEST
DTSTART:20240331T010000
END:DAYLIGHT
BEGIN:STANDARD
TZOFFSETFROM:+0200
TZOFFSETTO:+0100
TZNAME:CET
DTSTART:20241027T010000
END:STANDARD
BEGIN:DAYLIGHT
TZOFFSETFROM:+0100
TZOFFSETTO:+0200
TZNAME:CEST
DTSTART:20250330T010000
END:DAYLIGHT
BEGIN:STANDARD
TZOFFSETFROM:+0200
TZOFFSETTO:+0100
TZNAME:CET
DTSTART:20251026T010000
END:STANDARD
BEGIN:DAYLIGHT
TZOFFSETFROM:+0100
TZOFFSETTO:+0200
TZNAME:CEST
DTSTART:20260329T010000
END:DAYLIGHT
BEGIN:STANDARD
TZOFFSETFROM:+0200
TZOFFSETTO:+0100
TZNAME:CET
DTSTART:20261025T010000
END:STANDARD
END:VTIMEZONE
BEGIN:VEVENT
DTSTART;TZID=Europe/Berlin:20251206T093000
DTEND;TZID=Europe/Berlin:20251206T133000
DTSTAMP:20260420T110328
CREATED:20250929T231504Z
LAST-MODIFIED:20250929T231504Z
UID:1538-1765013400-1765027800@aspik-heilbronn.de
SUMMARY:Aktionssamstag
DESCRIPTION:
URL:https://aspik-heilbronn.de/event/aktionssamstag-28/
CATEGORIES:Abenteuerspielplatz
END:VEVENT
BEGIN:VEVENT
DTSTART;TZID=Europe/Berlin:20251108T093000
DTEND;TZID=Europe/Berlin:20251108T133000
DTSTAMP:20260420T110328
CREATED:20250929T231416Z
LAST-MODIFIED:20250929T231416Z
UID:1535-1762594200-1762608600@aspik-heilbronn.de
SUMMARY:Aktionssamstag
DESCRIPTION:
URL:https://aspik-heilbronn.de/event/aktionssamstag-27/
CATEGORIES:Abenteuerspielplatz
END:VEVENT
BEGIN:VEVENT
DTSTART;TZID=Europe/Berlin:20251025T093000
DTEND;TZID=Europe/Berlin:20251025T133000
DTSTAMP:20260420T110328
CREATED:20250929T231332Z
LAST-MODIFIED:20251022T130135Z
UID:1532-1761384600-1761399000@aspik-heilbronn.de
SUMMARY:(Abgesagt)
DESCRIPTION:
URL:https://aspik-heilbronn.de/event/aktionssamstag-26/
CATEGORIES:Abenteuerspielplatz
END:VEVENT
BEGIN:VEVENT
DTSTART;TZID=Europe/Berlin:20251011T093000
DTEND;TZID=Europe/Berlin:20251011T133000
DTSTAMP:20260420T110328
CREATED:20250929T231143Z
LAST-MODIFIED:20250929T231143Z
UID:1529-1760175000-1760189400@aspik-heilbronn.de
SUMMARY:Aktionssamstag
DESCRIPTION:
URL:https://aspik-heilbronn.de/event/aktionssamstag-25/
CATEGORIES:Abenteuerspielplatz
END:VEVENT
BEGIN:VEVENT
DTSTART;VALUE=DATE:20250908
DTEND;VALUE=DATE:20250913
DTSTAMP:20260420T110328
CREATED:20250716T203954Z
LAST-MODIFIED:20250826T220850Z
UID:1377-1757289600-1757721599@aspik-heilbronn.de
SUMMARY:Sommerferienprogramm 2025
DESCRIPTION:Täglich von 14-18 Uhr
URL:https://aspik-heilbronn.de/event/sommerferienprogramm-2025-5/
CATEGORIES:Abenteuerspielplatz
END:VEVENT
BEGIN:VEVENT
DTSTART;TZID=Europe/Berlin:20250705T093000
DTEND;TZID=Europe/Berlin:20250705T133000
DTSTAMP:20260420T110328
CREATED:20250407T092317Z
LAST-MODIFIED:20250407T092317Z
UID:1354-1751707800-1751722200@aspik-heilbronn.de
SUMMARY:Aktionssamstag
DESCRIPTION:
URL:https://aspik-heilbronn.de/event/aktionssamstag-24/
CATEGORIES:Abenteuerspielplatz
END:VEVENT
BEGIN:VEVENT
DTSTART;TZID=Europe/Berlin:20250607T093000
DTEND;TZID=Europe/Berlin:20250607T133000
DTSTAMP:20260420T110328
CREATED:20250407T092205Z
LAST-MODIFIED:20250602T084247Z
UID:1351-1749288600-1749303000@aspik-heilbronn.de
SUMMARY:ABGESAGT
DESCRIPTION:
URL:https://aspik-heilbronn.de/event/aktionssamstag-23/
END:VEVENT
BEGIN:VEVENT
DTSTART;TZID=Europe/Berlin:20250503T093000
DTEND;TZID=Europe/Berlin:20250503T133000
DTSTAMP:20260420T110328
CREATED:20250407T092059Z
LAST-MODIFIED:20250407T092059Z
UID:1348-1746264600-1746279000@aspik-heilbronn.de
SUMMARY:Aktionssamstag
DESCRIPTION:
URL:https://aspik-heilbronn.de/event/aktionssamstag-22/
CATEGORIES:Abenteuerspielplatz
END:VEVENT
BEGIN:VEVENT
DTSTART;TZID=Europe/Berlin:20241207T093000
DTEND;TZID=Europe/Berlin:20241207T133000
DTSTAMP:20260420T110328
CREATED:20240413T215702Z
LAST-MODIFIED:20240413T215702Z
UID:1271-1733563800-1733578200@aspik-heilbronn.de
SUMMARY:Aktionssamstag
DESCRIPTION:
URL:https://aspik-heilbronn.de/event/aktionssamstag-21/
CATEGORIES:Abenteuerspielplatz
END:VEVENT
BEGIN:VEVENT
DTSTART;TZID=Europe/Berlin:20241102T093000
DTEND;TZID=Europe/Berlin:20241102T133000
DTSTAMP:20260420T110328
CREATED:20240413T215638Z
LAST-MODIFIED:20240413T215638Z
UID:1268-1730539800-1730554200@aspik-heilbronn.de
SUMMARY:Aktionssamstag
DESCRIPTION:
URL:https://aspik-heilbronn.de/event/aktionssamstag-20/
CATEGORIES:Abenteuerspielplatz
END:VEVENT
BEGIN:VEVENT
DTSTART;TZID=Europe/Berlin:20241005T093000
DTEND;TZID=Europe/Berlin:20241005T133000
DTSTAMP:20260420T110328
CREATED:20240413T215610Z
LAST-MODIFIED:20240413T215610Z
UID:1265-1728120600-1728135000@aspik-heilbronn.de
SUMMARY:Aktionssamstag
DESCRIPTION:
URL:https://aspik-heilbronn.de/event/aktionssamstag-19/
CATEGORIES:Abenteuerspielplatz
END:VEVENT
BEGIN:VEVENT
DTSTART;TZID=Europe/Berlin:20240914T093000
DTEND;TZID=Europe/Berlin:20240914T133000
DTSTAMP:20260420T110328
CREATED:20240413T215503Z
LAST-MODIFIED:20240413T215503Z
UID:1262-1726306200-1726320600@aspik-heilbronn.de
SUMMARY:Aktionssamstag
DESCRIPTION:
URL:https://aspik-heilbronn.de/event/aktionssamstag-18/
CATEGORIES:Abenteuerspielplatz
END:VEVENT
BEGIN:VEVENT
DTSTART;TZID=Europe/Berlin:20240902T080000
DTEND;TZID=Europe/Berlin:20240906T170000
DTSTAMP:20260420T110328
CREATED:20240712T113840Z
LAST-MODIFIED:20240712T113840Z
UID:1281-1725264000-1725642000@aspik-heilbronn.de
SUMMARY:Sommerferienprogramm 2024
DESCRIPTION:Auch dieses Jahr gibt es wieder ein Sommerferienprogramm\, das Thema dieses Jahr ist Weltreise.\nJeden Tag gibt es von 14:00 Uhr bis 18:00 Uhr einen anderen Kontinent zu entdecken.\nHier Gehts zur Anmeldung
URL:https://aspik-heilbronn.de/event/sommerferienprogramm-2024/
CATEGORIES:Abenteuerspielplatz
END:VEVENT
BEGIN:VEVENT
DTSTART;TZID=Europe/Berlin:20240706T093000
DTEND;TZID=Europe/Berlin:20240706T133000
DTSTAMP:20260420T110328
CREATED:20240413T215415Z
LAST-MODIFIED:20240703T065743Z
UID:1259-1720258200-1720272600@aspik-heilbronn.de
SUMMARY:Aktionssamstag
DESCRIPTION:
URL:https://aspik-heilbronn.de/event/aktionssamstag-17/
CATEGORIES:Abenteuerspielplatz
END:VEVENT
BEGIN:VEVENT
DTSTART;TZID=Europe/Berlin:20240608T093000
DTEND;TZID=Europe/Berlin:20240608T133000
DTSTAMP:20260420T110328
CREATED:20240413T215205Z
LAST-MODIFIED:20240413T215205Z
UID:1255-1717839000-1717853400@aspik-heilbronn.de
SUMMARY:Aktionssamstag
DESCRIPTION:
URL:https://aspik-heilbronn.de/event/aktionssamstag-16/
CATEGORIES:Abenteuerspielplatz
END:VEVENT
BEGIN:VEVENT
DTSTART;TZID=Europe/Berlin:20240504T093000
DTEND;TZID=Europe/Berlin:20240504T133000
DTSTAMP:20260420T110328
CREATED:20240413T215127Z
LAST-MODIFIED:20240417T104708Z
UID:1252-1714815000-1714829400@aspik-heilbronn.de
SUMMARY:Einfach mal danke sagen
DESCRIPTION:
URL:https://aspik-heilbronn.de/event/aktionssamstag-15/
CATEGORIES:Abenteuerspielplatz
END:VEVENT
BEGIN:VEVENT
DTSTART;TZID=Europe/Berlin:20240302T093000
DTEND;TZID=Europe/Berlin:20240302T133000
DTSTAMP:20260420T110328
CREATED:20240210T182034Z
LAST-MODIFIED:20240210T182034Z
UID:1244-1709371800-1709386200@aspik-heilbronn.de
SUMMARY:Aktionssamstag
DESCRIPTION:
URL:https://aspik-heilbronn.de/event/aktionssamstag-14/
CATEGORIES:Abenteuerspielplatz
END:VEVENT
BEGIN:VEVENT
DTSTART;TZID=Europe/Berlin:20240203T093000
DTEND;TZID=Europe/Berlin:20240203T133000
DTSTAMP:20260420T110328
CREATED:20240201T120145Z
LAST-MODIFIED:20240201T120145Z
UID:1241-1706952600-1706967000@aspik-heilbronn.de
SUMMARY:Aktionssamstag
DESCRIPTION:
URL:https://aspik-heilbronn.de/event/aktionssamstag-13/
CATEGORIES:Abenteuerspielplatz
END:VEVENT
BEGIN:VEVENT
DTSTART;TZID=Europe/Berlin:20240122T133000
DTEND;TZID=Europe/Berlin:20240122T161500
DTSTAMP:20260420T110328
CREATED:20231010T205733Z
LAST-MODIFIED:20231010T205733Z
UID:1199-1705930200-1705940100@aspik-heilbronn.de
SUMMARY:AbenteuErLeben
DESCRIPTION:
URL:https://aspik-heilbronn.de/event/abenteuerleben-16/
LOCATION:ASPIK
CATEGORIES:Intern
END:VEVENT
BEGIN:VEVENT
DTSTART;TZID=Europe/Berlin:20240115T133000
DTEND;TZID=Europe/Berlin:20240115T161500
DTSTAMP:20260420T110328
CREATED:20231010T205706Z
LAST-MODIFIED:20231010T205706Z
UID:1198-1705325400-1705335300@aspik-heilbronn.de
SUMMARY:AbenteuErLeben
DESCRIPTION:
URL:https://aspik-heilbronn.de/event/abenteuerleben-15/
LOCATION:ASPIK
CATEGORIES:Intern
END:VEVENT
BEGIN:VEVENT
DTSTART;TZID=Europe/Berlin:20240108T133000
DTEND;TZID=Europe/Berlin:20240108T161500
DTSTAMP:20260420T110328
CREATED:20231010T205644Z
LAST-MODIFIED:20231010T205644Z
UID:1197-1704720600-1704730500@aspik-heilbronn.de
SUMMARY:AbenteuErLeben
DESCRIPTION:
URL:https://aspik-heilbronn.de/event/abenteuerleben-14/
LOCATION:ASPIK
CATEGORIES:Intern
END:VEVENT
BEGIN:VEVENT
DTSTART;TZID=Europe/Berlin:20240101T133000
DTEND;TZID=Europe/Berlin:20240101T161500
DTSTAMP:20260420T110328
CREATED:20231010T205547Z
LAST-MODIFIED:20231010T205616Z
UID:1196-1704115800-1704125700@aspik-heilbronn.de
SUMMARY:AbenteuErLeben
DESCRIPTION:
URL:https://aspik-heilbronn.de/event/abenteuerleben-13/
LOCATION:ASPIK
CATEGORIES:Intern
END:VEVENT
BEGIN:VEVENT
DTSTART;TZID=Europe/Berlin:20231225T133000
DTEND;TZID=Europe/Berlin:20231225T161500
DTSTAMP:20260420T110328
CREATED:20231010T205515Z
LAST-MODIFIED:20231010T205515Z
UID:1195-1703511000-1703520900@aspik-heilbronn.de
SUMMARY:AbenteuErLeben
DESCRIPTION:
URL:https://aspik-heilbronn.de/event/abenteuerleben-12/
LOCATION:ASPIK
CATEGORIES:Intern
END:VEVENT
BEGIN:VEVENT
DTSTART;TZID=Europe/Berlin:20231218T133000
DTEND;TZID=Europe/Berlin:20231218T161500
DTSTAMP:20260420T110328
CREATED:20231010T205448Z
LAST-MODIFIED:20231010T205448Z
UID:1194-1702906200-1702916100@aspik-heilbronn.de
SUMMARY:AbenteuErLeben
DESCRIPTION:
URL:https://aspik-heilbronn.de/event/abenteuerleben-11/
LOCATION:ASPIK
CATEGORIES:Intern
END:VEVENT
BEGIN:VEVENT
DTSTART;TZID=Europe/Berlin:20231211T133000
DTEND;TZID=Europe/Berlin:20231211T161500
DTSTAMP:20260420T110328
CREATED:20231010T205424Z
LAST-MODIFIED:20231010T205424Z
UID:1193-1702301400-1702311300@aspik-heilbronn.de
SUMMARY:AbenteuErLeben
DESCRIPTION:
URL:https://aspik-heilbronn.de/event/abenteuerleben-10/
LOCATION:ASPIK
CATEGORIES:Intern
END:VEVENT
BEGIN:VEVENT
DTSTART;TZID=Europe/Berlin:20231204T133000
DTEND;TZID=Europe/Berlin:20231204T161500
DTSTAMP:20260420T110328
CREATED:20231010T205403Z
LAST-MODIFIED:20231010T205403Z
UID:1192-1701696600-1701706500@aspik-heilbronn.de
SUMMARY:AbenteuErLeben
DESCRIPTION:
URL:https://aspik-heilbronn.de/event/abenteuerleben-9/
LOCATION:ASPIK
CATEGORIES:Intern
END:VEVENT
BEGIN:VEVENT
DTSTART;TZID=Europe/Berlin:20231202T093000
DTEND;TZID=Europe/Berlin:20231202T133000
DTSTAMP:20260420T110328
CREATED:20230216T182324Z
LAST-MODIFIED:20230216T182324Z
UID:1089-1701509400-1701523800@aspik-heilbronn.de
SUMMARY:Es weihnachtet ...
DESCRIPTION:
URL:https://aspik-heilbronn.de/event/es-weihnachtet/
LOCATION:ASPIK
CATEGORIES:Abenteuerspielplatz
ORGANIZER;CN="Abenteuerspielpl%C3%A4tze Heilbronn e.V.":MAILTO:aspik-heilbronn@hotmail.com
END:VEVENT
BEGIN:VEVENT
DTSTART;TZID=Europe/Berlin:20231127T133000
DTEND;TZID=Europe/Berlin:20231127T161500
DTSTAMP:20260420T110328
CREATED:20231010T205331Z
LAST-MODIFIED:20231010T205331Z
UID:1191-1701091800-1701101700@aspik-heilbronn.de
SUMMARY:AbenteuErLeben
DESCRIPTION:
URL:https://aspik-heilbronn.de/event/abenteuerleben-8/
LOCATION:ASPIK
CATEGORIES:Intern
END:VEVENT
BEGIN:VEVENT
DTSTART;TZID=Europe/Berlin:20231120T133000
DTEND;TZID=Europe/Berlin:20231120T161500
DTSTAMP:20260420T110328
CREATED:20231010T205215Z
LAST-MODIFIED:20231010T205228Z
UID:1184-1700487000-1700496900@aspik-heilbronn.de
SUMMARY:AbenteuErLeben
DESCRIPTION:
URL:https://aspik-heilbronn.de/event/abenteuerleben-7/
LOCATION:ASPIK
CATEGORIES:Intern
END:VEVENT
BEGIN:VEVENT
DTSTART;TZID=Europe/Berlin:20231113T133000
DTEND;TZID=Europe/Berlin:20231113T161500
DTSTAMP:20260420T110328
CREATED:20231010T205148Z
LAST-MODIFIED:20231010T205148Z
UID:1183-1699882200-1699892100@aspik-heilbronn.de
SUMMARY:AbenteuErLeben
DESCRIPTION:
URL:https://aspik-heilbronn.de/event/abenteuerleben-6/
LOCATION:ASPIK
CATEGORIES:Intern
END:VEVENT
END:VCALENDAR